BEGIN:VCALENDAR
VERSION:2.0
PRODID:-//Rasteder Automobil-Club e.V. im ADAC - ECPv6.15.20//NONSGML v1.0//EN
CALSCALE:GREGORIAN
METHOD:PUBLISH
X-ORIGINAL-URL:https://rasteder-ac.de
X-WR-CALDESC:Veranstaltungen für Rasteder Automobil-Club e.V. im ADAC
REFRESH-INTERVAL;VALUE=DURATION:PT1H
X-Robots-Tag:noindex
X-PUBLISHED-TTL:PT1H
BEGIN:VTIMEZONE
TZID:UTC
BEGIN:STANDARD
TZOFFSETFROM:+0000
TZOFFSETTO:+0000
TZNAME:UTC
DTSTART:20250101T000000
END:STANDARD
END:VTIMEZONE
BEGIN:VEVENT
DTSTART;TZID=UTC:20260924T170000
DTEND;TZID=UTC:20260924T170000
DTSTAMP:20260419T163503
CREATED:20251129T100136Z
LAST-MODIFIED:20251129T100136Z
UID:26268-1790269200-1790269200@rasteder-ac.de
SUMMARY:Seniorenstammtisch
DESCRIPTION:
URL:https://rasteder-ac.de/veranstaltung/seniorenstammtisch-4/
LOCATION:Restaurant Grand Slam\, Im Göhlen 5\, Rastede\, Niedersachsen\, 26180\, Germany
ORGANIZER;CN="Rasteder Automobil-Club":MAILTO:info@rasteder-ac.org
END:VEVENT
END:VCALENDAR