BEGIN:VCALENDAR
VERSION:2.0
PRODID:-//Rasteder Automobil-Club e.V. im ADAC - ECPv6.15.20//NONSGML v1.0//EN
CALSCALE:GREGORIAN
METHOD:PUBLISH
X-WR-CALNAME:Rasteder Automobil-Club e.V. im ADAC
X-ORIGINAL-URL:http://rasteder-ac.de
X-WR-CALDESC:Veranstaltungen für Rasteder Automobil-Club e.V. im ADAC
REFRESH-INTERVAL;VALUE=DURATION:PT1H
X-Robots-Tag:noindex
X-PUBLISHED-TTL:PT1H
BEGIN:VTIMEZONE
TZID:UTC
BEGIN:STANDARD
TZOFFSETFROM:+0000
TZOFFSETTO:+0000
TZNAME:UTC
DTSTART:20250101T000000
END:STANDARD
END:VTIMEZONE
BEGIN:VEVENT
DTSTART;TZID=UTC:20260730T170000
DTEND;TZID=UTC:20260730T170000
DTSTAMP:20260419T141825
CREATED:20251129T095904Z
LAST-MODIFIED:20251129T095904Z
UID:26266-1785430800-1785430800@rasteder-ac.de
SUMMARY:Seniorenstammtisch
DESCRIPTION:
URL:http://rasteder-ac.de/veranstaltung/seniorenstammtisch-3/
LOCATION:Restaurant Grand Slam\, Im Göhlen 5\, Rastede\, Niedersachsen\, 26180\, Germany
ORGANIZER;CN="Rasteder Automobil-Club":MAILTO:info@rasteder-ac.org
END:VEVENT
END:VCALENDAR