BEGIN:VCALENDAR
VERSION:2.0
PRODID:-//Rasteder Automobil-Club e.V. im ADAC - ECPv6.15.20//NONSGML v1.0//EN
CALSCALE:GREGORIAN
METHOD:PUBLISH
X-WR-CALNAME:Rasteder Automobil-Club e.V. im ADAC
X-ORIGINAL-URL:http://rasteder-ac.de
X-WR-CALDESC:Veranstaltungen für Rasteder Automobil-Club e.V. im ADAC
REFRESH-INTERVAL;VALUE=DURATION:PT1H
X-Robots-Tag:noindex
X-PUBLISHED-TTL:PT1H
BEGIN:VTIMEZONE
TZID:UTC
BEGIN:STANDARD
TZOFFSETFROM:+0000
TZOFFSETTO:+0000
TZNAME:UTC
DTSTART:20250101T000000
END:STANDARD
END:VTIMEZONE
BEGIN:VEVENT
DTSTART;TZID=UTC:20260531T080000
DTEND;TZID=UTC:20260531T170000
DTSTAMP:20260419T122242
CREATED:20251128T205527Z
LAST-MODIFIED:20260120T134100Z
UID:26255-1780214400-1780246800@rasteder-ac.de
SUMMARY:3. Residenzort Rastede Rallye 2026
DESCRIPTION:für Old- & Youngtimer
URL:http://rasteder-ac.de/veranstaltung/3-residenzort-rastede-rallye-2026/
ORGANIZER;CN="Rasteder Automobil-Club":MAILTO:info@rasteder-ac.org
END:VEVENT
END:VCALENDAR